BEGIN:VCALENDAR
PRODID:-//SINGPromos.com//NONSGML v1.0//EN
VERSION:2.0
CALSCALE:GREGORIAN
METHOD:PUBLISH
X-WR-CALNAME:SINGPromos.com
X-ORIGINAL-URL:http://singpromos.com
X-WR-CALDESC:Events for SINGPromos.com
BEGIN:VEVENT
DTSTART:20251111T000000
DTEND:20251116T235900
DTSTAMP:20260420T044423
CREATED:20251111T143046
LAST-MODIFIED:20251111T143046
UID:295705@http://singpromos.com
SUMMARY:McDonald's S'pore $1.10 Filet-O-Fish McDelivery Deal (11-16 Nov 2025)
DESCRIPTION:Available 24 hours daily during the promo period. For more information, visit [ http://singpromos.com/dining-restaurants-food/mcdonalds-spore-1-10-filet-o-fish-mcdelivery-deal-11-16-nov-2025-295705/ ]. 
LOCATION:
URL:http://singpromos.com/dining-restaurants-food/mcdonalds-spore-1-10-filet-o-fish-mcdelivery-deal-11-16-nov-2025-295705/
END:VEVENT
END:VCALENDAR