BEGIN:VCALENDAR
PRODID:-//SINGPromos.com//NONSGML v1.0//EN
VERSION:2.0
CALSCALE:GREGORIAN
METHOD:PUBLISH
X-WR-CALNAME:SINGPromos.com
X-ORIGINAL-URL:http://singpromos.com
X-WR-CALDESC:Events for SINGPromos.com
BEGIN:VEVENT
DTSTART:20251124T000000
DTEND:20251130T235900
DTSTAMP:20260424T012142
CREATED:20251125T161502
LAST-MODIFIED:20251125T161502
UID:296212@http://singpromos.com
SUMMARY:Luckin Coffee S'pore 1-for-1 Payday Deal on All Coffee from 24-30 Nov 2025
DESCRIPTION:Enjoy a wallet-friendly 1-for-1 coffee treat. For more information, visit [ http://singpromos.com/dining-restaurants-food/luckin-coffee-spore-1-for-1-payday-deal-on-all-coffee-from-24-30-nov-2025-296212/ ]. 
LOCATION:
URL:http://singpromos.com/dining-restaurants-food/luckin-coffee-spore-1-for-1-payday-deal-on-all-coffee-from-24-30-nov-2025-296212/
END:VEVENT
END:VCALENDAR