BEGIN:VCALENDAR
PRODID:-//SINGPromos.com//NONSGML v1.0//EN
VERSION:2.0
CALSCALE:GREGORIAN
METHOD:PUBLISH
X-WR-CALNAME:SINGPromos.com
X-ORIGINAL-URL:http://singpromos.com
X-WR-CALDESC:Events for SINGPromos.com
BEGIN:VEVENT
DTSTART:20260106T000000
DTEND:20261230T235900
DTSTAMP:20260419T223417
CREATED:20251224T160438
LAST-MODIFIED:20251224T160815
UID:297285@http://singpromos.com
SUMMARY:Sheng Siong Extends 4% Senior Discount on Tuesdays & Wednesdays Till End 2026
DESCRIPTION:Enjoy more savings on weekly groceries with Sheng Siong's extended senior discount. For more information, visit [ http://singpromos.com/dining-restaurants-food/sheng-siong-extends-4-senior-discount-on-tuesdays-wednesdays-till-end-2026-297285/ ]. 
LOCATION:
URL:http://singpromos.com/dining-restaurants-food/sheng-siong-extends-4-senior-discount-on-tuesdays-wednesdays-till-end-2026-297285/
END:VEVENT
END:VCALENDAR