BEGIN:VCALENDAR
PRODID:-//SINGPromos.com//NONSGML v1.0//EN
VERSION:2.0
CALSCALE:GREGORIAN
METHOD:PUBLISH
X-WR-CALNAME:SINGPromos.com
X-ORIGINAL-URL:http://singpromos.com
X-WR-CALDESC:Events for SINGPromos.com
BEGIN:VEVENT
DTSTART:20120414T000000
DTEND:20120415T235900
DTSTAMP:20260420T035908
CREATED:20120414T175527
LAST-MODIFIED:20120414T175527
UID:29803@http://singpromos.com
SUMMARY:NTUC Unity 25% Off Selected Brands 14 - 15 Apr 2012
DESCRIPTION:NTUC Unity is having a two days special to stretch your health dollar till 15 April 2012. Enjoy 25% off selected brands such as Blackmores, Enfuselle, GreenLife, Ocean Health, Kordel's Shaklee, Vichy, VitaHealth, Physiogel, Holistic, Rebirth and more. For more information, visit [ http://singpromos.com/health/ntuc-unity-25-off-selected-brands-14-15-apr-2012-29803/ ]. 
LOCATION:
URL:http://singpromos.com/health/ntuc-unity-25-off-selected-brands-14-15-apr-2012-29803/
END:VEVENT
END:VCALENDAR