BEGIN:VCALENDAR
PRODID:-//SINGPromos.com//NONSGML v1.0//EN
VERSION:2.0
CALSCALE:GREGORIAN
METHOD:PUBLISH
X-WR-CALNAME:SINGPromos.com
X-ORIGINAL-URL:http://singpromos.com
X-WR-CALDESC:Events for SINGPromos.com
BEGIN:VEVENT
DTSTART:20260422T000000
DTEND:20260426T235900
DTSTAMP:20260419T222756
CREATED:20260419T182041
LAST-MODIFIED:20260419T182041
UID:301650@http://singpromos.com
SUMMARY:Four Star Clearance Sale Up to 80% Off Mattresses at Aljunied Pop-Up
DESCRIPTION:Score big savings on premium mattresses and smart storage beds at this limited-time sale. For more information, visit [ http://singpromos.com/warehouse-sales/four-star-clearance-sale-up-to-80-off-mattresses-at-aljunied-pop-up-301650/ ]. 
LOCATION:71 Lor 23 Geylang, 388386
URL:http://singpromos.com/warehouse-sales/four-star-clearance-sale-up-to-80-off-mattresses-at-aljunied-pop-up-301650/
END:VEVENT
END:VCALENDAR