BEGIN:VCALENDAR
PRODID:-//SINGPromos.com//NONSGML v1.0//EN
VERSION:2.0
CALSCALE:GREGORIAN
METHOD:PUBLISH
X-WR-CALNAME:SINGPromos.com
X-ORIGINAL-URL:http://singpromos.com
X-WR-CALDESC:Events for SINGPromos.com
BEGIN:VEVENT
DTSTART:20260421T000000
DTEND:20260426T235900
DTSTAMP:20260419T222755
CREATED:20260419T181554
LAST-MODIFIED:20260419T190920
UID:301713@http://singpromos.com
SUMMARY:LovethatBag Branded Bag Sale from 21 - 26 Apr 2026
DESCRIPTION:Score authentic designer handbags at attractive prices. For more information, visit [ http://singpromos.com/warehouse-sales/lovethatbag-branded-bag-sale-from-21-26-apr-2026-301713/ ]. 
LOCATION:307683
URL:http://singpromos.com/warehouse-sales/lovethatbag-branded-bag-sale-from-21-26-apr-2026-301713/
END:VEVENT
END:VCALENDAR