BEGIN:VCALENDAR
PRODID:-//SINGPromos.com//NONSGML v1.0//EN
VERSION:2.0
CALSCALE:GREGORIAN
METHOD:PUBLISH
X-WR-CALNAME:SINGPromos.com
X-ORIGINAL-URL:http://singpromos.com
X-WR-CALDESC:Events for SINGPromos.com
BEGIN:VEVENT
DTSTART:20260420T000000
DTEND:20260423T235900
DTSTAMP:20260419T220528
CREATED:20260419T201943
LAST-MODIFIED:20260419T203428
UID:301739@http://singpromos.com
SUMMARY:Coffee Bean SG 1 FOR 1 Iced Organic Matcha Lavender Earl Grey Latte promo returns from 20-23 Apr 2026
DESCRIPTION:Comes with Earl Grey Jelly. For more information, visit [ http://singpromos.com/dining-restaurants-food/coffee-bean-sg-1-for-1-iced-organic-matcha-lavender-earl-grey-latte-promo-returns-from-20-23-apr-2026-301739/ ]. 
LOCATION:
URL:http://singpromos.com/dining-restaurants-food/coffee-bean-sg-1-for-1-iced-organic-matcha-lavender-earl-grey-latte-promo-returns-from-20-23-apr-2026-301739/
END:VEVENT
END:VCALENDAR