BEGIN:VCALENDAR
PRODID:-//SINGPromos.com//NONSGML v1.0//EN
VERSION:2.0
CALSCALE:GREGORIAN
METHOD:PUBLISH
X-WR-CALNAME:SINGPromos.com
X-ORIGINAL-URL:http://singpromos.com
X-WR-CALDESC:Events for SINGPromos.com
BEGIN:VEVENT
DTSTART:20260420T000000
DTEND:20260424T235900
DTSTAMP:20260419T222735
CREATED:20260420T023716
LAST-MODIFIED:20260420T023716
UID:301747@http://singpromos.com
SUMMARY:McDonald's S'pore Pre-Payday Lunch Deals from $6.90 (20-24 Apr 2026)
DESCRIPTION:Wallet-friendly McDonald's lunch deals from $6.90 this week only. For more information, visit [ http://singpromos.com/dining-restaurants-food/mcdonalds-spore-pre-payday-lunch-deals-from-6-90-20-24-apr-2026-301747/ ]. 
LOCATION:
URL:http://singpromos.com/dining-restaurants-food/mcdonalds-spore-pre-payday-lunch-deals-from-6-90-20-24-apr-2026-301747/
END:VEVENT
END:VCALENDAR