BEGIN:VCALENDAR
PRODID:-//SINGPromos.com//NONSGML v1.0//EN
VERSION:2.0
CALSCALE:GREGORIAN
METHOD:PUBLISH
X-WR-CALNAME:SINGPromos.com
X-ORIGINAL-URL:http://singpromos.com
X-WR-CALDESC:Events for SINGPromos.com
BEGIN:VEVENT
DTSTART:20260421T000000
DTEND:20260423T235900
DTSTAMP:20260420T164355
CREATED:20260420T182109
LAST-MODIFIED:20260420T182109
UID:301790@http://singpromos.com
SUMMARY:Starbucks Singapore Two Tall Drinks at $9.90 Rewards Deal from 21 - 23 Apr 2026
DESCRIPTION:Enjoy two Tall drinks for $9.90 in this Starbucks Rewards member-exclusive deal. For more information, visit [ http://singpromos.com/dining-restaurants-food/starbucks-singapore-two-tall-drinks-at-9-90-rewards-deal-from-21-23-apr-2026-301790/ ]. 
LOCATION:
URL:http://singpromos.com/dining-restaurants-food/starbucks-singapore-two-tall-drinks-at-9-90-rewards-deal-from-21-23-apr-2026-301790/
END:VEVENT
END:VCALENDAR