BEGIN:VCALENDAR
PRODID:-//SINGPromos.com//NONSGML v1.0//EN
VERSION:2.0
CALSCALE:GREGORIAN
METHOD:PUBLISH
X-WR-CALNAME:SINGPromos.com
X-ORIGINAL-URL:http://singpromos.com
X-WR-CALDESC:Events for SINGPromos.com
BEGIN:VEVENT
DTSTART:20260421T000000
DTEND:20260430T235900
DTSTAMP:20260423T234001
CREATED:20260423T145717
LAST-MODIFIED:20260423T145717
UID:301841@http://singpromos.com
SUMMARY:Hallmark Marina Square Moving Out Sale Up to 80% OFF Ending 30 April 2026
DESCRIPTION:Don't miss the Hallmark Marina Square Moving Out Sale. For more information, visit [ http://singpromos.com/warehouse-sales/hallmark-marina-square-moving-out-sale-up-to-80-off-ending-30-april-2026-301841/ ]. 
LOCATION:039594
URL:http://singpromos.com/warehouse-sales/hallmark-marina-square-moving-out-sale-up-to-80-off-ending-30-april-2026-301841/
END:VEVENT
END:VCALENDAR