BEGIN:VCALENDAR
PRODID:-//SINGPromos.com//NONSGML v1.0//EN
VERSION:2.0
CALSCALE:GREGORIAN
METHOD:PUBLISH
X-WR-CALNAME:SINGPromos.com
X-ORIGINAL-URL:http://singpromos.com
X-WR-CALDESC:Events for SINGPromos.com
BEGIN:VEVENT
DTSTART:20260423T000000
DTEND:20260429T235900
DTSTAMP:20260423T220141
CREATED:20260423T145206
LAST-MODIFIED:20260423T180931
UID:301929@http://singpromos.com
SUMMARY:FairPrice Selling Häagen-Dazs at 2-for-$19.80 Deal & Other Grocery Savings Till 29 Apr 2026
DESCRIPTION:Enjoy premium ice cream and stack big savings across groceries and essentials. For more information, visit [ http://singpromos.com/dining-restaurants-food/fairprice-selling-haagen-dazs-at-2-for-19-80-deal-other-grocery-savings-till-29-apr-2026-301929/ ]. 
LOCATION:
URL:http://singpromos.com/dining-restaurants-food/fairprice-selling-haagen-dazs-at-2-for-19-80-deal-other-grocery-savings-till-29-apr-2026-301929/
END:VEVENT
END:VCALENDAR