BEGIN:VCALENDAR
PRODID:-//SINGPromos.com//NONSGML v1.0//EN
VERSION:2.0
CALSCALE:GREGORIAN
METHOD:PUBLISH
X-WR-CALNAME:SINGPromos.com
X-ORIGINAL-URL:http://singpromos.com
X-WR-CALDESC:Events for SINGPromos.com
BEGIN:VEVENT
DTSTART:20260424T000000
DTEND:20260430T235900
DTSTAMP:20260423T234001
CREATED:20260423T204320
LAST-MODIFIED:20260423T204413
UID:301952@http://singpromos.com
SUMMARY:Luckin Coffee S'pore 1-for-1 All Coffee Deal (24-30 Apr 2026)
DESCRIPTION:Enjoy double the coffee at the price of one with this limited-time deal. For more information, visit [ http://singpromos.com/dining-restaurants-food/luckin-coffee-spore-1-for-1-all-coffee-deal-24-30-apr-2026-301952/ ]. 
LOCATION:
URL:http://singpromos.com/dining-restaurants-food/luckin-coffee-spore-1-for-1-all-coffee-deal-24-30-apr-2026-301952/
END:VEVENT
END:VCALENDAR