BEGIN:VCALENDAR
PRODID:-//SINGPromos.com//NONSGML v1.0//EN
VERSION:2.0
CALSCALE:GREGORIAN
METHOD:PUBLISH
X-WR-CALNAME:SINGPromos.com
X-ORIGINAL-URL:http://singpromos.com
X-WR-CALDESC:Events for SINGPromos.com
BEGIN:VEVENT
DTSTART:20120510T000000
DTEND:20120520T235900
DTSTAMP:20260420T014038
CREATED:20120509T192112
LAST-MODIFIED:20120517T182042
UID:31592@http://singpromos.com
SUMMARY:Robinsons Expo 2012 Sale @ Singapore Expo 10 - 20 May 2012
DESCRIPTION:Robinsons will be having their Robinsons Expo from 10 May to 20 May 2012 at Singapore Expo Hall 5, 1030am to 10pm. . For more information, visit [ http://singpromos.com/happenings/robinsons-expo-2012-sale-singapore-expo-10-20-may-2012-31592/ ]. 
LOCATION:
URL:http://singpromos.com/happenings/robinsons-expo-2012-sale-singapore-expo-10-20-may-2012-31592/
END:VEVENT
END:VCALENDAR