BEGIN:VCALENDAR
PRODID:-//SINGPromos.com//NONSGML v1.0//EN
VERSION:2.0
CALSCALE:GREGORIAN
METHOD:PUBLISH
X-WR-CALNAME:SINGPromos.com
X-ORIGINAL-URL:http://singpromos.com
X-WR-CALDESC:Events for SINGPromos.com
BEGIN:VEVENT
DTSTART:20120615T000000
DTEND:20120622T235900
DTSTAMP:20260420T035909
CREATED:20120612T214525
LAST-MODIFIED:20120612T214539
UID:34577@http://singpromos.com
SUMMARY:Hansel Warehouse Sale Up To 90% Off 15 - 22 Jun 2012
DESCRIPTION:hansel is having a warehouse sale with up to 90% off of past season's collections, samples and seconds at great bargain prices at Blk 1013 Geylang East Ave 3 #05-156 Singapore 389728 and runs from 11am to 6 pm daily. For more information, visit [ http://singpromos.com/warehouse-sales/hansel-warehouse-sale-up-to-90-off-15-22-jun-2012-34577/ ]. 
LOCATION:1013 Geylang East Ave 3, 389728
URL:http://singpromos.com/warehouse-sales/hansel-warehouse-sale-up-to-90-off-15-22-jun-2012-34577/
END:VEVENT
END:VCALENDAR