BEGIN:VCALENDAR
PRODID:-//SINGPromos.com//NONSGML v1.0//EN
VERSION:2.0
CALSCALE:GREGORIAN
METHOD:PUBLISH
X-WR-CALNAME:SINGPromos.com
X-ORIGINAL-URL:http://singpromos.com
X-WR-CALDESC:Events for SINGPromos.com
BEGIN:VEVENT
DTSTART:20120614T000000
DTEND:20120624T235900
DTSTAMP:20260420T014039
CREATED:20120613T185616
LAST-MODIFIED:20120613T185616
UID:34650@http://singpromos.com
SUMMARY:Robinsons Expo 2012 Sale @ Singapore Expo 14 - 24 Jun 2012
DESCRIPTION:Robinsons will be having their Robinsons Expo from 14 June to 24 June 2012 at Singapore Expo Hall 4, 1030am to 10pm. Cardmembers enjoy $8 off with every $50 nett purchase in a single receipt while other shoppers enjoy $6 off with every $60 nett purchase in a single receipt. For more information, visit [ http://singpromos.com/happenings/robinsons-expo-2012-sale-singapore-expo-14-24-jun-2012-34650/ ]. 
LOCATION:
URL:http://singpromos.com/happenings/robinsons-expo-2012-sale-singapore-expo-14-24-jun-2012-34650/
END:VEVENT
END:VCALENDAR