BEGIN:VCALENDAR
PRODID:-//SINGPromos.com//NONSGML v1.0//EN
VERSION:2.0
CALSCALE:GREGORIAN
METHOD:PUBLISH
X-WR-CALNAME:SINGPromos.com
X-ORIGINAL-URL:http://singpromos.com
X-WR-CALDESC:Events for SINGPromos.com
BEGIN:VEVENT
DTSTART:20120726T000000
DTEND:20120805T235900
DTSTAMP:20260420T003430
CREATED:20120725T012838
LAST-MODIFIED:20120802T205637
UID:38222@http://singpromos.com
SUMMARY:Robinsons Expo 2012 Sale @ Singapore Expo 26 Jul - 5 Aug 2012
DESCRIPTION:Robinsons will be having their Robinsons Expo from 26 July to 5 August 2012 at Singapore Expo Hall 4, 1030am to 10pm with up to 70% off. . For more information, visit [ http://singpromos.com/happenings/robinsons-expo-2012-sale-singapore-expo-26-jul-5-aug-2012-38222/ ]. 
LOCATION:
URL:http://singpromos.com/happenings/robinsons-expo-2012-sale-singapore-expo-26-jul-5-aug-2012-38222/
END:VEVENT
END:VCALENDAR