BEGIN:VCALENDAR
PRODID:-//SINGPromos.com//NONSGML v1.0//EN
VERSION:2.0
CALSCALE:GREGORIAN
METHOD:PUBLISH
X-WR-CALNAME:SINGPromos.com
X-ORIGINAL-URL:http://singpromos.com
X-WR-CALDESC:Events for SINGPromos.com
BEGIN:VEVENT
DTSTART:20120809T000000
DTEND:20120815T235900
DTSTAMP:20260420T051138
CREATED:20120810T024415
LAST-MODIFIED:20120810T024415
UID:39831@http://singpromos.com
SUMMARY:Guardian Health, Beauty & Personal Care Offers 9 - 15 Aug 2012
DESCRIPTION:Guardian is celebrating the upcoming National Day with new deals worth celebrating. Check out their 4 days only deal with up to 50% off selected brands including Gilette Men, Olay, Ginvera, Celebrity's Choice and more. For more information, visit [ http://singpromos.com/health/guardian-health-beauty-personal-care-offers-9-15-aug-2012-39831/ ]. 
LOCATION:
URL:http://singpromos.com/health/guardian-health-beauty-personal-care-offers-9-15-aug-2012-39831/
END:VEVENT
END:VCALENDAR