BEGIN:VCALENDAR
PRODID:-//SINGPromos.com//NONSGML v1.0//EN
VERSION:2.0
CALSCALE:GREGORIAN
METHOD:PUBLISH
X-WR-CALNAME:SINGPromos.com
X-ORIGINAL-URL:http://singpromos.com
X-WR-CALDESC:Events for SINGPromos.com
BEGIN:VEVENT
DTSTART:20120915T000000
DTEND:20120921T235900
DTSTAMP:20260424T025907
CREATED:20120916T023216
LAST-MODIFIED:20120916T023216
UID:42745@http://singpromos.com
SUMMARY:Harvey Norman Digital Cameras, Furniture, Notebooks & Appliances Offers 15 - 21 Sep 2012
DESCRIPTION:Harvey Norman continues its promotion of Energy Saving Appliances in a "Let's Save The Planet" promotion. Enjoy 2 months instalment waiver on Apple Macbook with UOB 36 months 0% instalment payment plan. For more information, visit [ http://singpromos.com/department-stores/harvey-norman-digital-cameras-furniture-notebooks-appliances-offers-15-21-sep-2012-42745/ ]. 
LOCATION:
URL:http://singpromos.com/department-stores/harvey-norman-digital-cameras-furniture-notebooks-appliances-offers-15-21-sep-2012-42745/
END:VEVENT
END:VCALENDAR