BEGIN:VCALENDAR
PRODID:-//SINGPromos.com//NONSGML v1.0//EN
VERSION:2.0
CALSCALE:GREGORIAN
METHOD:PUBLISH
X-WR-CALNAME:SINGPromos.com
X-ORIGINAL-URL:http://singpromos.com
X-WR-CALDESC:Events for SINGPromos.com
BEGIN:VEVENT
DTSTART:20120920T000000
DTEND:20120926T235900
DTSTAMP:20260420T035915
CREATED:20120920T173936
LAST-MODIFIED:20120920T173936
UID:42989@http://singpromos.com
SUMMARY:Guardian Health, Beauty & Personal Care Offers 20 - 26 Sep 2012
DESCRIPTION:Here's Guardian's latest offers for this week featuring new Guardian housebrand one week specials, up to 45% off deals and more. For more information, visit [ http://singpromos.com/department-stores/guardian-health-beauty-personal-care-offers-20-26-sep-2012-42989/ ]. 
LOCATION:
URL:http://singpromos.com/department-stores/guardian-health-beauty-personal-care-offers-20-26-sep-2012-42989/
END:VEVENT
END:VCALENDAR