BEGIN:VCALENDAR
PRODID:-//SINGPromos.com//NONSGML v1.0//EN
VERSION:2.0
CALSCALE:GREGORIAN
METHOD:PUBLISH
X-WR-CALNAME:SINGPromos.com
X-ORIGINAL-URL:http://singpromos.com
X-WR-CALDESC:Events for SINGPromos.com
BEGIN:VEVENT
DTSTART:20121109T000000
DTEND:20121111T235900
DTSTAMP:20260420T051026
CREATED:20121111T095317
LAST-MODIFIED:20121111T001243
UID:48363@http://singpromos.com
SUMMARY:Tecno Warehouse Sale Up To 80% Off @ SRI Building 9 - 11 Nov 2012
DESCRIPTION:Singapore Radio & Industry is having a Tecno warehouse sale with up to 80% off from 9 November to 11 November 2012 at SRI Building with up to 80% off. For more information, visit [ http://singpromos.com/warehouse-sales/tecno-warehouse-sale-up-to-80-off-sri-building-9-11-nov-2012-48363/ ]. 
LOCATION: 465 Tagore Industrial Avenue, 787834
URL:http://singpromos.com/warehouse-sales/tecno-warehouse-sale-up-to-80-off-sri-building-9-11-nov-2012-48363/
END:VEVENT
END:VCALENDAR