BEGIN:VCALENDAR
PRODID:-//SINGPromos.com//NONSGML v1.0//EN
VERSION:2.0
CALSCALE:GREGORIAN
METHOD:PUBLISH
X-WR-CALNAME:SINGPromos.com
X-ORIGINAL-URL:http://singpromos.com
X-WR-CALDESC:Events for SINGPromos.com
BEGIN:VEVENT
DTSTART:20121129T000000
DTEND:20121209T235900
DTSTAMP:20260420T003431
CREATED:20121128T165108
LAST-MODIFIED:20121209T052808
UID:50087@http://singpromos.com
SUMMARY:Robinsons Expo Sale @ Singapore Expo 29 Nov - 9 Dec 2012
DESCRIPTION:Robinsons will be having a Robinsons Expo from 29 November to 9 December 2012 at Singapore Expo Hall 5 from 1030am to 10pm. Enjoy $10 off with every $80 nett spend in a single receipt.. For more information, visit [ http://singpromos.com/happenings/robinsons-expo-sale-singapore-expo-29-nov-9-dec-2012-50087/ ]. 
LOCATION:
URL:http://singpromos.com/happenings/robinsons-expo-sale-singapore-expo-29-nov-9-dec-2012-50087/
END:VEVENT
END:VCALENDAR