BEGIN:VCALENDAR
PRODID:-//SINGPromos.com//NONSGML v1.0//EN
VERSION:2.0
CALSCALE:GREGORIAN
METHOD:PUBLISH
X-WR-CALNAME:SINGPromos.com
X-ORIGINAL-URL:http://singpromos.com
X-WR-CALDESC:Events for SINGPromos.com
BEGIN:VEVENT
DTSTART:20121211T000000
DTEND:20121225T235900
DTSTAMP:20260420T005752
CREATED:20121211T131043
LAST-MODIFIED:20121211T051514
UID:51639@http://singpromos.com
SUMMARY:Tracyeinny 50% Off Storewide Christmas Sale 11 - 25 Dec 2012
DESCRIPTION:Tracyeinny has started their 50% off storewide Christmas sale, now on till 25 December 2012. Sale excludes latest collection items.. For more information, visit [ http://singpromos.com/fashion-accessories/tracyeinny-50-off-storewide-christmas-sale-11-25-dec-2012-51639/ ]. 
LOCATION:
URL:http://singpromos.com/fashion-accessories/tracyeinny-50-off-storewide-christmas-sale-11-25-dec-2012-51639/
END:VEVENT
END:VCALENDAR