BEGIN:VCALENDAR
PRODID:-//SINGPromos.com//NONSGML v1.0//EN
VERSION:2.0
CALSCALE:GREGORIAN
METHOD:PUBLISH
X-WR-CALNAME:SINGPromos.com
X-ORIGINAL-URL:http://singpromos.com
X-WR-CALDESC:Events for SINGPromos.com
BEGIN:VEVENT
DTSTART:20121213T000000
DTEND:20121219T235900
DTSTAMP:20260420T035129
CREATED:20121214T130326
LAST-MODIFIED:20121215T045433
UID:51921@http://singpromos.com
SUMMARY:Guardian Health, Beauty & Personal Care Offers 13 - 19 Dec 2012
DESCRIPTION:Here is Guardian's latest promotion featuring new weekly buys, "2 For" super set deals, up to 50% off deals, Colgate 360 Buy 1 Get 1 free offer and their Expo Magical Christmas Sale. For more information, visit [ http://singpromos.com/department-stores/guardian-health-beauty-personal-care-offers-13-19-dec-2012-51921/ ]. 
LOCATION:
URL:http://singpromos.com/department-stores/guardian-health-beauty-personal-care-offers-13-19-dec-2012-51921/
END:VEVENT
END:VCALENDAR