BEGIN:VCALENDAR
PRODID:-//SINGPromos.com//NONSGML v1.0//EN
VERSION:2.0
CALSCALE:GREGORIAN
METHOD:PUBLISH
X-WR-CALNAME:SINGPromos.com
X-ORIGINAL-URL:http://singpromos.com
X-WR-CALDESC:Events for SINGPromos.com
BEGIN:VEVENT
DTSTART:20130203T000000
DTEND:20130203T235900
DTSTAMP:20260422T081804
CREATED:20130203T142844
LAST-MODIFIED:20130203T145236
UID:57958@http://singpromos.com
SUMMARY:NTUC Fairprice Ferrero Rocher & Golden Chef NZ Abalone Promo 3 Feb 2013
DESCRIPTION:NTUC FairPrice continues their Festive Countdown Special with special deals just for 3 February 2013. Each item is limited to 4 units per product per customer. . For more information, visit [ http://singpromos.com/dining-restaurants-food/ntuc-fairprice-ferrero-rocher-golden-chef-nz-abalone-promo-3-feb-2013-57958/ ]. 
LOCATION:
URL:http://singpromos.com/dining-restaurants-food/ntuc-fairprice-ferrero-rocher-golden-chef-nz-abalone-promo-3-feb-2013-57958/
END:VEVENT
END:VCALENDAR