BEGIN:VCALENDAR
PRODID:-//SINGPromos.com//NONSGML v1.0//EN
VERSION:2.0
CALSCALE:GREGORIAN
METHOD:PUBLISH
X-WR-CALNAME:SINGPromos.com
X-ORIGINAL-URL:http://singpromos.com
X-WR-CALDESC:Events for SINGPromos.com
BEGIN:VEVENT
DTSTART:20130212T000000
DTEND:20130219T235900
DTSTAMP:20260420T005746
CREATED:20130212T133248
LAST-MODIFIED:20130214T175218
UID:58526@http://singpromos.com
SUMMARY:Tracyeinny 30% Off Storewide Sale 12 - 19 Feb 2013
DESCRIPTION:Tracyeinny is having a 30% off storewide sale at Junction 8 from 12 February and at Chinatown Square from 13 February 2013. For more information, visit [ http://singpromos.com/fashion-accessories/tracyeinny-30-off-storewide-sale-12-feb-2013-58526/ ]. 
LOCATION:
URL:http://singpromos.com/fashion-accessories/tracyeinny-30-off-storewide-sale-12-feb-2013-58526/
END:VEVENT
END:VCALENDAR