BEGIN:VCALENDAR
PRODID:-//SINGPromos.com//NONSGML v1.0//EN
VERSION:2.0
CALSCALE:GREGORIAN
METHOD:PUBLISH
X-WR-CALNAME:SINGPromos.com
X-ORIGINAL-URL:http://singpromos.com
X-WR-CALDESC:Events for SINGPromos.com
BEGIN:VEVENT
DTSTART:20130221T000000
DTEND:20130305T235900
DTSTAMP:20260420T073202
CREATED:20130222T140457
LAST-MODIFIED:20130221T221335
UID:59181@http://singpromos.com
SUMMARY:Golf House Moving Out Sale @ Marina Square 21 Feb - 5 Mar 2013
DESCRIPTION:Golf House Marina Square is moving out and they're throwing an up to 70% off sale till 5 March 2013. For more information, visit [ http://singpromos.com/sports/golf-house-moving-out-sale-marina-square-21-feb-5-mar-2013-59181/ ]. 
LOCATION:
URL:http://singpromos.com/sports/golf-house-moving-out-sale-marina-square-21-feb-5-mar-2013-59181/
END:VEVENT
END:VCALENDAR