BEGIN:VCALENDAR
PRODID:-//SINGPromos.com//NONSGML v1.0//EN
VERSION:2.0
CALSCALE:GREGORIAN
METHOD:PUBLISH
X-WR-CALNAME:SINGPromos.com
X-ORIGINAL-URL:http://singpromos.com
X-WR-CALDESC:Events for SINGPromos.com
BEGIN:VEVENT
DTSTART:20130912T000000
DTEND:20130915T235900
DTSTAMP:20260420T062107
CREATED:20130911T090417
LAST-MODIFIED:20130911T090417
UID:75761@http://singpromos.com
SUMMARY:Lock & Lock Warehouse SALE Up To 70% Off @ Foh Foh Building 12 - 15 Sep 2013
DESCRIPTION:Lock & Lock warehouse SALE is back by popular demand from 12 September to 15 September 2013 . For more information, visit [ http://singpromos.com/warehouse-sales/lock-lock-warehouse-sale-up-to-70-off-foh-foh-building-12-15-sep-2013-75761/ ]. 
LOCATION:2 Pandan Avenue, 609382
URL:http://singpromos.com/warehouse-sales/lock-lock-warehouse-sale-up-to-70-off-foh-foh-building-12-15-sep-2013-75761/
END:VEVENT
END:VCALENDAR