BEGIN:VCALENDAR
PRODID:-//SINGPromos.com//NONSGML v1.0//EN
VERSION:2.0
CALSCALE:GREGORIAN
METHOD:PUBLISH
X-WR-CALNAME:SINGPromos.com
X-ORIGINAL-URL:http://singpromos.com
X-WR-CALDESC:Events for SINGPromos.com
BEGIN:VEVENT
DTSTART:20131025T000000
DTEND:20131027T235900
DTSTAMP:20260420T051138
CREATED:20131025T120203
LAST-MODIFIED:20131025T120326
UID:78864@http://singpromos.com
SUMMARY:Tecno, Tecnogas & Uno Appliances Warehouse SALE @ SRI Building 25 - 27 Oct 2013
DESCRIPTION:Singapore Radio & Industry is having a Tecno, Tecnogas and Uno warehouse SALE. For more information, visit [ http://singpromos.com/warehouse-sales/tecno-tecnogas-uno-appliances-warehouse-sale-sri-building-25-27-oct-2013-78864/ ]. 
LOCATION:465 Tagore Industrial Avenue, 787834
URL:http://singpromos.com/warehouse-sales/tecno-tecnogas-uno-appliances-warehouse-sale-sri-building-25-27-oct-2013-78864/
END:VEVENT
END:VCALENDAR