BEGIN:VCALENDAR
PRODID:-//SINGPromos.com//NONSGML v1.0//EN
VERSION:2.0
CALSCALE:GREGORIAN
METHOD:PUBLISH
X-WR-CALNAME:SINGPromos.com
X-ORIGINAL-URL:http://singpromos.com
X-WR-CALDESC:Events for SINGPromos.com
BEGIN:VEVENT
DTSTART:20131206T000000
DTEND:20140126T235900
DTSTAMP:20260420T073146
CREATED:20131206T092531
LAST-MODIFIED:20131206T085714
UID:82339@http://singpromos.com
SUMMARY:Golf House Up To 80% OFF Moving Out SALE @ Suntec City 6 Dec 2013 - 26 Jan 2014
DESCRIPTION:Golf House's outlet at Suntec City is moving out and hence they are clearing stock with up to 80% off merchandise for a limited time. For more information, visit [ http://singpromos.com/warehouse-sales/golf-house-up-to-80-off-moving-out-sale-suntec-city-6-dec-2013-26-jan-2014-82339/ ]. 
LOCATION:
URL:http://singpromos.com/warehouse-sales/golf-house-up-to-80-off-moving-out-sale-suntec-city-6-dec-2013-26-jan-2014-82339/
END:VEVENT
END:VCALENDAR