BEGIN:VCALENDAR
PRODID:-//SINGPromos.com//NONSGML v1.0//EN
VERSION:2.0
CALSCALE:GREGORIAN
METHOD:PUBLISH
X-WR-CALNAME:SINGPromos.com
X-ORIGINAL-URL:http://singpromos.com
X-WR-CALDESC:Events for SINGPromos.com
BEGIN:VEVENT
DTSTART:20131213T000000
DTEND:20131215T235900
DTSTAMP:20260420T005752
CREATED:20131213T174530
LAST-MODIFIED:20131213T174604
UID:83215@http://singpromos.com
SUMMARY:Tracyeinny 20% OFF Storewide SALE @ All Outlets 13 - 15 Dec 2013
DESCRIPTION:Tracyeinny is slashing 20% off everything including the latest collection for the weekend till 15 December 2013. For more information, visit [ http://singpromos.com/fashion-accessories/tracyeinny-20-off-storewide-sale-13-15-dec-2013-83215/ ]. 
LOCATION:
URL:http://singpromos.com/fashion-accessories/tracyeinny-20-off-storewide-sale-13-15-dec-2013-83215/
END:VEVENT
END:VCALENDAR