BEGIN:VCALENDAR
PRODID:-//SINGPromos.com//NONSGML v1.0//EN
VERSION:2.0
CALSCALE:GREGORIAN
METHOD:PUBLISH
X-WR-CALNAME:SINGPromos.com
X-ORIGINAL-URL:http://singpromos.com
X-WR-CALDESC:Events for SINGPromos.com
BEGIN:VEVENT
DTSTART:20131219T000000
DTEND:20131229T235900
DTSTAMP:20260420T073147
CREATED:20131219T173940
LAST-MODIFIED:20131219T173940
UID:83706@http://singpromos.com
SUMMARY:Golf House Up To 70% OFF Holiday Special 19 Dec 2013
DESCRIPTION:Enjoy up to 70% off with Golf House's Holiday Sale Special! Grab great deals to kick start your gift giving with items starting from $9.90 onwards. For more information, visit [ http://singpromos.com/sports/golf-house-up-to-70-off-holiday-special-19-dec-2013-83706/ ]. 
LOCATION:
URL:http://singpromos.com/sports/golf-house-up-to-70-off-holiday-special-19-dec-2013-83706/
END:VEVENT
END:VCALENDAR