BEGIN:VCALENDAR
PRODID:-//SINGPromos.com//NONSGML v1.0//EN
VERSION:2.0
CALSCALE:GREGORIAN
METHOD:PUBLISH
X-WR-CALNAME:SINGPromos.com
X-ORIGINAL-URL:http://singpromos.com
X-WR-CALDESC:Events for SINGPromos.com
BEGIN:VEVENT
DTSTART:20131220T000000
DTEND:20131225T235900
DTSTAMP:20260419T212635
CREATED:20131221T124633
LAST-MODIFIED:20131220T234829
UID:83892@http://singpromos.com
SUMMARY:Tracyeinny 20% OFF Storewide SALE @ All Outlets 20 - 25 Dec 2013
DESCRIPTION:Tracyeinny is slashing 20% off everything including the latest collection till 25 December 2013. For more information, visit [ http://singpromos.com/fashion-accessories/tracyeinny-20-off-storewide-sale-all-outlets-20-25-dec-2013-83892/ ]. 
LOCATION:
URL:http://singpromos.com/fashion-accessories/tracyeinny-20-off-storewide-sale-all-outlets-20-25-dec-2013-83892/
END:VEVENT
END:VCALENDAR