BEGIN:VCALENDAR
PRODID:-//SINGPromos.com//NONSGML v1.0//EN
VERSION:2.0
CALSCALE:GREGORIAN
METHOD:PUBLISH
X-WR-CALNAME:SINGPromos.com
X-ORIGINAL-URL:http://singpromos.com
X-WR-CALDESC:Events for SINGPromos.com
BEGIN:VEVENT
DTSTART:20140101T000000
DTEND:20140105T235900
DTSTAMP:20260420T062020
CREATED:20131224T161548
LAST-MODIFIED:20131224T170013
UID:84134@http://singpromos.com
SUMMARY:Lock & Lock Warehouse SALE Up To 70% OFF @ Foh Foh Building 1 - 5 Jan 2014
DESCRIPTION:Lock & Lock warehouse SALE is BACK and will be happening from 1 January to 5 January 2014. For more information, visit [ http://singpromos.com/warehouse-sales/lock-lock-warehouse-sale-up-to-70-off-foh-foh-building-1-5-jan-2014-84134/ ]. 
LOCATION:2 Pandan Avenue, 609382
URL:http://singpromos.com/warehouse-sales/lock-lock-warehouse-sale-up-to-70-off-foh-foh-building-1-5-jan-2014-84134/
END:VEVENT
END:VCALENDAR