BEGIN:VCALENDAR
PRODID:-//SINGPromos.com//NONSGML v1.0//EN
VERSION:2.0
CALSCALE:GREGORIAN
METHOD:PUBLISH
X-WR-CALNAME:SINGPromos.com
X-ORIGINAL-URL:http://singpromos.com
X-WR-CALDESC:Events for SINGPromos.com
BEGIN:VEVENT
DTSTART:20131225T000000
DTEND:20131230T235900
DTSTAMP:20260420T035915
CREATED:20131228T101424
LAST-MODIFIED:20131227T212323
UID:84414@http://singpromos.com
SUMMARY:Hansel Up to 25% OFF Year End SALE @ Mandarin Gallery 25 - 30 Dec 2013
DESCRIPTION:Hansel is having a Year End SALE at its outlet at Mandarin Gallery. For more information, visit [ http://singpromos.com/fashion-accessories/hansel-up-to-25-off-year-end-sale-mandarin-gallery-25-30-dec-2013-84414/ ]. 
LOCATION:
URL:http://singpromos.com/fashion-accessories/hansel-up-to-25-off-year-end-sale-mandarin-gallery-25-30-dec-2013-84414/
END:VEVENT
END:VCALENDAR