BEGIN:VCALENDAR
PRODID:-//SINGPromos.com//NONSGML v1.0//EN
VERSION:2.0
CALSCALE:GREGORIAN
METHOD:PUBLISH
X-WR-CALNAME:SINGPromos.com
X-ORIGINAL-URL:http://singpromos.com
X-WR-CALDESC:Events for SINGPromos.com
BEGIN:VEVENT
DTSTART:20131227T000000
DTEND:20140108T235900
DTSTAMP:20260420T005751
CREATED:20131228T093455
LAST-MODIFIED:20140107T234408
UID:84422@http://singpromos.com
SUMMARY:Tracyeinny 40% OFF Storewide SALE @ All Outlets 27 Dec 2013 - 8 Jan 2014
DESCRIPTION:Tracyeinny is slashing 40% off everything. For more information, visit [ http://singpromos.com/fashion-accessories/tracyeinny-40-off-storewide-sale-all-outlets-27-31-dec-2013-84422/ ]. 
LOCATION:
URL:http://singpromos.com/fashion-accessories/tracyeinny-40-off-storewide-sale-all-outlets-27-31-dec-2013-84422/
END:VEVENT
END:VCALENDAR