BEGIN:VCALENDAR
PRODID:-//SINGPromos.com//NONSGML v1.0//EN
VERSION:2.0
CALSCALE:GREGORIAN
METHOD:PUBLISH
X-WR-CALNAME:SINGPromos.com
X-ORIGINAL-URL:http://singpromos.com
X-WR-CALDESC:Events for SINGPromos.com
BEGIN:VEVENT
DTSTART:20140117T000000
DTEND:20140123T235900
DTSTAMP:20260420T035909
CREATED:20140118T104642
LAST-MODIFIED:20140118T004947
UID:86227@http://singpromos.com
SUMMARY:Katrin BJ Up To 80% OFF Warehouse SALE @ CES Building 17 - 23 Jan 2014
DESCRIPTION:Katrin BJ is having a warehouse SALE with discounts of up to 80% OFF till 23 January 2014. For more information, visit [ http://singpromos.com/warehouse-sales/katrin-bj-up-to-80-off-warehouse-sale-ces-building-17-23-jan-2014-86227/ ]. 
LOCATION:69 Ubi Cresecent, #05-01, 408561
URL:http://singpromos.com/warehouse-sales/katrin-bj-up-to-80-off-warehouse-sale-ces-building-17-23-jan-2014-86227/
END:VEVENT
END:VCALENDAR