BEGIN:VCALENDAR
PRODID:-//SINGPromos.com//NONSGML v1.0//EN
VERSION:2.0
CALSCALE:GREGORIAN
METHOD:PUBLISH
X-WR-CALNAME:SINGPromos.com
X-ORIGINAL-URL:http://singpromos.com
X-WR-CALDESC:Events for SINGPromos.com
BEGIN:VEVENT
DTSTART:20140202T000000
DTEND:20140212T235900
DTSTAMP:20260420T005752
CREATED:20140202T204801
LAST-MODIFIED:20140212T133429
UID:87229@http://singpromos.com
SUMMARY:Tracyeinny 20% OFF Storewide SALE @ All Outlets 2 - 12 Feb 2014
DESCRIPTION:Tracyeinny is slashing 20% off storewide for a limited time. For more information, visit [ http://singpromos.com/fashion-accessories/tracyeinny-20-off-storewide-sale-all-outlets-2-feb-2014-87229/ ]. 
LOCATION:
URL:http://singpromos.com/fashion-accessories/tracyeinny-20-off-storewide-sale-all-outlets-2-feb-2014-87229/
END:VEVENT
END:VCALENDAR