BEGIN:VCALENDAR
PRODID:-//SINGPromos.com//NONSGML v1.0//EN
VERSION:2.0
CALSCALE:GREGORIAN
METHOD:PUBLISH
X-WR-CALNAME:SINGPromos.com
X-ORIGINAL-URL:http://singpromos.com
X-WR-CALDESC:Events for SINGPromos.com
BEGIN:VEVENT
DTSTART:20110602T000000
DTEND:20110608T235900
DTSTAMP:20260422T055759
CREATED:20110602T185917
LAST-MODIFIED:20110602T185917
UID:8726@http://singpromos.com
SUMMARY:Harvey Norman Shavers Sale 2 - 8 Jun 2011
DESCRIPTION:Models on sale include Braun M-30, 190, Xpressive Epilator Bikini Styler Bundle Pack SE-7380 & FG-1100, Philips HQ-9080, HQ-6070, Panasonic ES-8253 and Panasonic Lady Epilator ES-2067. For more information, visit [ http://singpromos.com/personal-care/harvey-norman-shavers-sale-2-8-jun-2011-8726/ ]. 
LOCATION:
URL:http://singpromos.com/personal-care/harvey-norman-shavers-sale-2-8-jun-2011-8726/
END:VEVENT
END:VCALENDAR