BEGIN:VCALENDAR
PRODID:-//SINGPromos.com//NONSGML v1.0//EN
VERSION:2.0
CALSCALE:GREGORIAN
METHOD:PUBLISH
X-WR-CALNAME:SINGPromos.com
X-ORIGINAL-URL:http://singpromos.com
X-WR-CALDESC:Events for SINGPromos.com
BEGIN:VEVENT
DTSTART:20140225T000000
DTEND:20140228T235900
DTSTAMP:20260420T073146
CREATED:20140224T170938
LAST-MODIFIED:20140224T170938
UID:88982@http://singpromos.com
SUMMARY:Golf House Up To 80% OFF Clearance SALE @ Wisma Gulab 25 - 28 Feb 2014
DESCRIPTION:Golf House will be having a Clearance SALE from 25 February to 28 February 2014 at Wisma Gulab. For more information, visit [ http://singpromos.com/warehouse-sales/golf-house-up-to-80-off-clearance-sale-wisma-gulab-25-28-feb-2014-88982/ ]. 
LOCATION:190 MacPherson Rd, 348548
URL:http://singpromos.com/warehouse-sales/golf-house-up-to-80-off-clearance-sale-wisma-gulab-25-28-feb-2014-88982/
END:VEVENT
END:VCALENDAR