BEGIN:VCALENDAR
PRODID:-//SINGPromos.com//NONSGML v1.0//EN
VERSION:2.0
CALSCALE:GREGORIAN
METHOD:PUBLISH
X-WR-CALNAME:SINGPromos.com
X-ORIGINAL-URL:http://singpromos.com
X-WR-CALDESC:Events for SINGPromos.com
BEGIN:VEVENT
DTSTART:20140310T000000
DTEND:20140316T235900
DTSTAMP:20260420T005746
CREATED:20140310T110403
LAST-MODIFIED:20140310T110815
UID:90200@http://singpromos.com
SUMMARY:Tracyeinny 30% OFF Storewide SALE @ All Outlets 10 - 16 Mar 2014
DESCRIPTION:Tracyeinny is slashing 30% off storewide for a limited time.. For more information, visit [ http://singpromos.com/fashion-accessories/tracyeinny-30-off-storewide-sale-all-outlets-10-16-mar-2014-90200/ ]. 
LOCATION:
URL:http://singpromos.com/fashion-accessories/tracyeinny-30-off-storewide-sale-all-outlets-10-16-mar-2014-90200/
END:VEVENT
END:VCALENDAR