BEGIN:VCALENDAR
PRODID:-//SINGPromos.com//NONSGML v1.0//EN
VERSION:2.0
CALSCALE:GREGORIAN
METHOD:PUBLISH
X-WR-CALNAME:SINGPromos.com
X-ORIGINAL-URL:http://singpromos.com
X-WR-CALDESC:Events for SINGPromos.com
BEGIN:VEVENT
DTSTART:20140321T000000
DTEND:20140323T235900
DTSTAMP:20260420T051138
CREATED:20140321T200409
LAST-MODIFIED:20140321T200409
UID:91226@http://singpromos.com
SUMMARY:hansel's End of Season SALE @ Mandarin Gallery 21 Mar 2014
DESCRIPTION:hansel is having an End of Season SALE with 25% OFF the HDB-inspired "Heartland" collection. For more information, visit [ http://singpromos.com/fashion-accessories/hansels-end-of-season-sale-mandarin-gallery-21-mar-2014-91226/ ]. 
LOCATION:
URL:http://singpromos.com/fashion-accessories/hansels-end-of-season-sale-mandarin-gallery-21-mar-2014-91226/
END:VEVENT
END:VCALENDAR