BEGIN:VCALENDAR
PRODID:-//SINGPromos.com//NONSGML v1.0//EN
VERSION:2.0
CALSCALE:GREGORIAN
METHOD:PUBLISH
X-WR-CALNAME:SINGPromos.com
X-ORIGINAL-URL:http://singpromos.com
X-WR-CALDESC:Events for SINGPromos.com
BEGIN:VEVENT
DTSTART:20140516T000000
DTEND:20140601T235900
DTSTAMP:20260424T015141
CREATED:20140516T143218
LAST-MODIFIED:20140521T165007
UID:97178@http://singpromos.com
SUMMARY:Coldwear 15th Anniversary Promotion Offers 16 May - 1 Jun 2014
DESCRIPTION:Additional 15% off only at IMM and Changi City Point outlets. For more information, visit [ http://singpromos.com/fashion-accessories/coldwear-15th-anniversary-promotion-offers-16-may-1-jun-2014-97178/ ]. 
LOCATION:
URL:http://singpromos.com/fashion-accessories/coldwear-15th-anniversary-promotion-offers-16-may-1-jun-2014-97178/
END:VEVENT
END:VCALENDAR