BEGIN:VCALENDAR
PRODID:-//SINGPromos.com//NONSGML v1.0//EN
VERSION:2.0
CALSCALE:GREGORIAN
METHOD:PUBLISH
X-WR-CALNAME:SINGPromos.com
X-ORIGINAL-URL:http://singpromos.com
X-WR-CALDESC:Events for SINGPromos.com
BEGIN:VEVENT
DTSTART:20140522T000000
DTEND:20140713T235900
DTSTAMP:20260420T073146
CREATED:20140522T161614
LAST-MODIFIED:20140522T161614
UID:97927@http://singpromos.com
SUMMARY:Golf House Up To 70% OFF SALE 22 May - 13 Jul 2014
DESCRIPTION:Super Golf Sale from 22 May to 13 July 2014.. For more information, visit [ http://singpromos.com/sports/golf-house-up-to-70-off-sale-22-may-13-jul-2014-97927/ ]. 
LOCATION:
URL:http://singpromos.com/sports/golf-house-up-to-70-off-sale-22-may-13-jul-2014-97927/
END:VEVENT
END:VCALENDAR