BEGIN:VCALENDAR
PRODID:-//SINGPromos.com//NONSGML v1.0//EN
VERSION:2.0
CALSCALE:GREGORIAN
METHOD:PUBLISH
X-WR-CALNAME:SINGPromos.com
X-ORIGINAL-URL:http://singpromos.com
X-WR-CALDESC:Events for SINGPromos.com
BEGIN:VEVENT
DTSTART:20140529T000000
DTEND:20140608T235900
DTSTAMP:20260420T003431
CREATED:20140523T194545
LAST-MODIFIED:20140608T193135
UID:98104@http://singpromos.com
SUMMARY:Robinsons Expo Up To 70% Off @ Singapore Expo 29 May - 8 Jun 2014
DESCRIPTION:Discounts are going at up to 70% off. Get $10 OFF with every $100 nett purchase in a single receipt. For more information, visit [ http://singpromos.com/happenings/robinsons-expo-up-to-70-off-singapore-expo-29-may-8-jun-2014-98104/ ]. 
LOCATION:486150
URL:http://singpromos.com/happenings/robinsons-expo-up-to-70-off-singapore-expo-29-may-8-jun-2014-98104/
END:VEVENT
END:VCALENDAR