BEGIN:VCALENDAR
PRODID:-//SINGPromos.com//NONSGML v1.0//EN
VERSION:2.0
CALSCALE:GREGORIAN
METHOD:PUBLISH
X-WR-CALNAME:SINGPromos.com
X-ORIGINAL-URL:http://singpromos.com
X-WR-CALDESC:Events for SINGPromos.com
BEGIN:VEVENT
DTSTART:20140530T000000
DTEND:20140803T235900
DTSTAMP:20260424T032313
CREATED:20140531T233339
LAST-MODIFIED:20140531T233339
UID:99227@http://singpromos.com
SUMMARY:Philips Spend $288 & Get Free Shopping Vouchers Great Sale 30 May - 3 Aug 2014
DESCRIPTION:FREE $50 Shopping Vouchers with minimum of $288 purchase. For more information, visit [ http://singpromos.com/department-stores/philips-spend-288-get-free-shopping-vouchers-great-sale-30-may-3-aug-2014-99227/ ]. 
LOCATION:
URL:http://singpromos.com/department-stores/philips-spend-288-get-free-shopping-vouchers-great-sale-30-may-3-aug-2014-99227/
END:VEVENT
END:VCALENDAR