BEGIN:VCALENDAR
PRODID:-//SINGPromos.com//NONSGML v1.0//EN
VERSION:2.0
CALSCALE:GREGORIAN
METHOD:PUBLISH
X-WR-CALNAME:SINGPromos.com
X-ORIGINAL-URL:http://singpromos.com
X-WR-CALDESC:Events for SINGPromos.com
BEGIN:VEVENT
DTSTART:20140601T000000
DTEND:20140601T235900
DTSTAMP:20260424T032313
CREATED:20140531T220555
LAST-MODIFIED:20140531T220555
UID:99236@http://singpromos.com
SUMMARY:Air Asia Go Hotels + FREE Flights Packages 24Hrs Priority Promo 1 Jun 2014
DESCRIPTION:Destinations include Bali, Phuket, Krabi, Penang, Bangkok and more. For more information, visit [ http://singpromos.com/vacations/air-asia-go-hotels-free-flights-packages-24hrs-priority-promo-1-jun-2014-99236/ ]. 
LOCATION:
URL:http://singpromos.com/vacations/air-asia-go-hotels-free-flights-packages-24hrs-priority-promo-1-jun-2014-99236/
END:VEVENT
END:VCALENDAR