BEGIN:VCALENDAR
PRODID:-//SINGPromos.com//NONSGML v1.0//EN
VERSION:2.0
CALSCALE:GREGORIAN
METHOD:PUBLISH
X-WR-CALNAME:SINGPromos.com
X-ORIGINAL-URL:http://singpromos.com
X-WR-CALDESC:Events for SINGPromos.com
BEGIN:VEVENT
DTSTART:20140529T000000
DTEND:20140629T235900
DTSTAMP:20260424T032319
CREATED:20140531T221911
LAST-MODIFIED:20140531T221911
UID:99245@http://singpromos.com
SUMMARY:Missha Great Singapore Sale Promotion 29 May - 29 Jun 2014
DESCRIPTION:Featuring 20% off Storewide and free gifts. For more information, visit [ http://singpromos.com/beauty/missha-great-singapore-sale-promotion-29-may-29-jun-2014-99245/ ]. 
LOCATION:
URL:http://singpromos.com/beauty/missha-great-singapore-sale-promotion-29-may-29-jun-2014-99245/
END:VEVENT
END:VCALENDAR