BEGIN:VCALENDAR
PRODID:-//SINGPromos.com//NONSGML v1.0//EN
VERSION:2.0
CALSCALE:GREGORIAN
METHOD:PUBLISH
X-WR-CALNAME:SINGPromos.com
X-ORIGINAL-URL:http://singpromos.com
X-WR-CALDESC:Events for SINGPromos.com
BEGIN:VEVENT
DTSTART:20140530T000000
DTEND:20140629T235900
DTSTAMP:20260424T032312
CREATED:20140531T222951
LAST-MODIFIED:20140531T223356
UID:99255@http://singpromos.com
SUMMARY:Stride Rite 15% OFF 2nd Pair Promo 30 May - 29 Jun 2014
DESCRIPTION:Discount of 15% off your 2nd pair for a limited time. For more information, visit [ http://singpromos.com/footwear/stride-rite-15-off-2nd-pair-promo-30-may-29-jun-2014-99255/ ]. 
LOCATION:
URL:http://singpromos.com/footwear/stride-rite-15-off-2nd-pair-promo-30-may-29-jun-2014-99255/
END:VEVENT
END:VCALENDAR