BEGIN:VCALENDAR
PRODID:-//SINGPromos.com//NONSGML v1.0//EN
VERSION:2.0
CALSCALE:GREGORIAN
METHOD:PUBLISH
X-WR-CALNAME:SINGPromos.com
X-ORIGINAL-URL:http://singpromos.com
X-WR-CALDESC:Events for SINGPromos.com
BEGIN:VEVENT
DTSTART:20110630T000000
DTEND:20110710T235900
DTSTAMP:20260420T055052
CREATED:20110630T185948
LAST-MODIFIED:20110708T193850
UID:9971@http://singpromos.com
SUMMARY:Robinsons Expo 2011 Sale @ Singapore Expo 30 Jun - 10 Jul 2011
DESCRIPTION:Robinsons will be having a sale at Singapore Expo from 30 Jun - 10 Jul 2011, 1030am to 10pm at Singapore Expo, Hall 4. Offers include $5 off with a minimum nett purchase of $50 in a single receipt.. For more information, visit [ http://singpromos.com/fashion-accessories/robinsons-expo-2011-sale-singapore-expo-30-jun-10-jul-2011-9971/ ]. 
LOCATION:
URL:http://singpromos.com/fashion-accessories/robinsons-expo-2011-sale-singapore-expo-30-jun-10-jul-2011-9971/
END:VEVENT
END:VCALENDAR