BEGIN:VCALENDAR
PRODID:-//SINGPromos.com//NONSGML v1.0//EN
VERSION:2.0
CALSCALE:GREGORIAN
METHOD:PUBLISH
X-WR-CALNAME:SINGPromos.com
X-ORIGINAL-URL:https://singpromos.com
X-WR-CALDESC:Events for SINGPromos.com
BEGIN:VEVENT
DTSTART:20140605T000000
DTEND:20140608T235900
DTSTAMP:20260422T082115
CREATED:20140607T084255
LAST-MODIFIED:20140607T014442
UID:100016@https://singpromos.com
SUMMARY:Dockers Up To 80% OFF Shirts & Pants @ IMM 5 - 8 Jun 2014
DESCRIPTION:Save up to 80% shirts & pants at Dockers for a limited time. For more information, visit [ https://singpromos.com/fashion-accessories/dockers-up-to-80-off-shirts-pants-imm-5-8-jun-2014-100016/ ]. 
LOCATION:609601
URL:https://singpromos.com/fashion-accessories/dockers-up-to-80-off-shirts-pants-imm-5-8-jun-2014-100016/
END:VEVENT
END:VCALENDAR